BEGIN:VCALENDAR
VERSION:2.0
PRODID:-//Library Market//iCal Export//EN
BEGIN:VEVENT
SUMMARY:Let&#039;s Create: Fossils
UID:292222
DTSTAMP:20260426T002400Z
DTSTART:20260710T183000Z
DTEND:20260710T193000Z
LOCATION:Kathryn Linnemann Branch, 2323 Elm St, St Charles, MO 63301, Unit
 ed States
ROOM: Community Room B
DESCRIPTION:Art Exploration! Create cool fossils and dinosaur impressions 
 using clay!
URL:https://stcharles.librarycalendar.com/event/lets-create-fossils-292222
END:VEVENT
END:VCALENDAR
